BEGIN:VCALENDAR
VERSION:2.0
PRODID:Events Booking
BEGIN:VEVENT
UID:69eaaeee12398
SUMMARY:Rockland Boston Pizza Cruise Night
DESCRIPTION:
DTSTART:20240609T203000Z
DTEND:20240609T233000Z
DTSTAMP:20240411T075429Z
ORGANIZER;CN=Divertissement:MAILTO:divertissement@clubmustangoutaouais.ca
END:VEVENT
END:VCALENDAR