BEGIN:VCALENDAR
VERSION:2.0
PRODID:Events Booking
BEGIN:VEVENT
UID:69eaaed5755af
SUMMARY:Cornwall 2nd Annual Father's Day Car Show 
DESCRIPTION:
DTSTART:20240616T130000Z
DTEND:20240616T190000Z
DTSTAMP:20240411T081715Z
ORGANIZER;CN=Divertissement:MAILTO:divertissement@clubmustangoutaouais.ca
END:VEVENT
END:VCALENDAR