BEGIN:VCALENDAR
VERSION:2.0
PRODID:Events Booking
BEGIN:VEVENT
UID:69ead61b30a79
SUMMARY:6th Annual Meat & Grease for Ottawa Heart Institute
DESCRIPTION:For more details click on the hyperlink below !!  Let's meet t
 o support the good cause. 
 https://www.facebook.com/meatandgreaseottawa
LOCATION:1231 Newmarket St C\, Ottawa\, ON K1B 5N6
DTSTART:20240623T160000Z
DTEND:20240623T200000Z
DTSTAMP:20240411T082214Z
ORGANIZER;CN=Divertissement:MAILTO:divertissement@clubmustangoutaouais.ca
GEO:45.411175;-75.619026
X-APPLE-STRUCTURED-LOCATION;VALUE=URI;X-ADDRESS=1231 Newmarket St C\, Ottaw
 a\, ON K1B 5N6;X-APPLE-RADIUS=72;X-TITLE=Derand Motorsport:45.411175;-75.6
 19026
END:VEVENT
END:VCALENDAR