BEGIN:VCALENDAR
VERSION:2.0
PRODID:Events Booking
BEGIN:VEVENT
UID:69ead568448c7
SUMMARY:NEW - Ride to Intermiel
DESCRIPTION:A new destination\, I encourage you to join the group who will 
 go for this beautiful visit\, which by the way is very educational.
 From
  May to October discover the world of bees at our apiarian farm and countr
 y estate. Guided by a passionate beekeeper\, you will discover during each
  workshop\, a wonderful buzzing bee world.
 Note: It won't be possible to
  order lunch on site\, so ensure to bring your lunch for a picnic. 
LOCATION:10291\, rang de la Fresnière\, Mirabel\, Saint-Benoît QC J7N 3M3
DTSTART:20240629T130000Z
DTEND:20240629T200000Z
DTSTAMP:20240618T055142Z
ORGANIZER;CN=Divertissement:MAILTO:divertissement@clubmustangoutaouais.ca
GEO:45.569297;-74.077147
X-APPLE-STRUCTURED-LOCATION;VALUE=URI;X-ADDRESS=10291\, rang de la Fresniè
 re\, Mirabel\, Saint-Benoît QC J7N 3M3;X-APPLE-RADIUS=72;X-TITLE=Intermie
 l:45.569297;-74.077147
END:VEVENT
END:VCALENDAR