BEGIN:VCALENDAR
VERSION:2.0
PRODID:Events Booking
BEGIN:VEVENT
UID:69ead5cdb12f3
SUMMARY:Ride and picnic - Orleans Fruit Farm
DESCRIPTION:
LOCATION:1399 St Joseph Blvd\, Ottawa\, ON K1C 7K9
DTSTART:20240908T133000Z
DTEND:20240908T190000Z
DTSTAMP:20240618T060424Z
ORGANIZER;CN=Divertissement:MAILTO:divertissement@clubmustangoutaouais.ca
GEO:45.457577;-75.568185
X-APPLE-STRUCTURED-LOCATION;VALUE=URI;X-ADDRESS=1399 St Joseph Blvd\, Ottaw
 a\, ON K1C 7K9;X-APPLE-RADIUS=72;X-TITLE=Orleans Fruit Farm:45.457577;-75.
 568185
END:VEVENT
END:VCALENDAR