BEGIN:VCALENDAR
VERSION:2.0
PRODID:Events Booking
BEGIN:VEVENT
UID:69ead5975a500
SUMMARY:StoneCropAcres Winery and Vineyard
DESCRIPTION:Mustangers\, don't miss this ride\, this day was entirely organ
 ized by Diane and Bear Paquette. Your dedication is a great example of you
 r pride in sharing your efforts in support of the Club Mustang Outaouais.
 
 Come on Friends\, let's participate in this beautiful day to thank Diane
  and Bear for organizing this beautiful Mustang family outing.
 You'll fi
 nd all the details for this beautiful and visits while you're logged in yo
 ur account.
LOCATION:5242 Smiths Rd\, Morrisburg\, ON K0C 1X0
DTSTART:20240727T040000Z
DTEND:20240727T040000Z
DTSTAMP:20240618T071531Z
ORGANIZER;CN=Divertissement:MAILTO:divertissement@clubmustangoutaouais.ca
GEO:44.879817;-75.236984
X-APPLE-STRUCTURED-LOCATION;VALUE=URI;X-ADDRESS=5242 Smiths Rd\, Morrisburg
 \, ON K0C 1X0;X-APPLE-RADIUS=72;X-TITLE=StoneCropAcres Winery and Vineyard
 :44.879817;-75.236984
END:VEVENT
END:VCALENDAR