BEGIN:VCALENDAR
VERSION:2.0
PRODID:Events Booking
BEGIN:VEVENT
UID:69ead597227f2
SUMMARY:24th Annual All Ford Spectacular
DESCRIPTION:
 Mustang 2024 GEN 7 will be in a separate class
LOCATION:1500 Carling Ave\, Ottawa\, ON K1Z 0A3
DTSTART:20240728T130000Z
DTEND:20240728T200000Z
DTSTAMP:20240618T073536Z
ORGANIZER;CN=Divertissement:MAILTO:divertissement@clubmustangoutaouais.ca
GEO:45.381444;-75.742826
X-APPLE-STRUCTURED-LOCATION;VALUE=URI;X-ADDRESS=1500 Carling Ave\, Ottawa\,
  ON K1Z 0A3;X-APPLE-RADIUS=72;X-TITLE=Campbell Ford:45.381444;-75.742826
END:VEVENT
END:VCALENDAR