BEGIN:VCALENDAR
VERSION:2.0
PRODID:Events Booking
BEGIN:VEVENT
UID:69ead64b5f556
SUMMARY:Annual General Meeting Club Mustang Outaouais
DESCRIPTION:The registration for the Annual General Meeting dinner will be 
 closing on Tuesday\, October 22nd @17:00 hours.
LOCATION:331 Boulevard de la Cité-des-Jeunes\, Gatineau\, Quebec\, J8Y 6T3
DTSTART:20241024T210000Z
DTEND:20241025T010000Z
DTSTAMP:20240626T020040Z
ORGANIZER;CN=Divertissement:MAILTO:divertissement@clubmustangoutaouais.ca
GEO:45.457901;-75.770099
X-APPLE-STRUCTURED-LOCATION;VALUE=URI;X-ADDRESS=331 Boulevard de la Cité-d
 es-Jeunes\, Gatineau\, Quebec\, J8Y 6T3;X-APPLE-RADIUS=72;X-TITLE=Cabane e
 n bois rond:45.457901;-75.770099
END:VEVENT
END:VCALENDAR