BEGIN:VCALENDAR
VERSION:2.0
PRODID:Events Booking
BEGIN:VEVENT
UID:69ead64ae03a1
SUMMARY:Meat and Grease Ottawa for Ottawa Heart Institute
DESCRIPTION:Let's encourage our sponsor by supporting this cause\, only for
  few hours ! Many draws ! 
  
 Join us at Meat and Grease Ottawa on Ju
 ly 21st! 
  
 Get ready for a thrilling car show featuring classics an
 d sports cars\, all for a great cause. We're raising funds for The Ottawa 
 Heart Institute! 
 Indulge in food\, refreshing drinks\, and the chance 
 to win exciting door prizes. Plus\, don't miss out on our thrilling 50/50 
 draw and a silent auction filled with fantastic items.
  
 Groove to th
 e beat of music and immerse yourself in the electrifying atmosphere. And h
 ere's a special treat for all the car enthusiasts the rev battle\, where e
 ngines roar and adrenaline soars!
  
 Don't miss out on this exciting e
 vent. Tickets are only $10 per car. Mark your calendars and let's make a d
 ifference together!
 Meat and Grease Ottawa is apart of Derand Motorsport
 s 2024 car show series.
 Meat and Grease Ottawa is a family organized Car
  show in Canadas capital since 2017.
 Website: ww.meatandgrease.ca
  
 
 Address: 1231 Newmarket street Ottawa OntarioPhone: 613-563-0029
 No re
 vving or two stepping unless you are participating in the engine sound off
  compilation at the time of the event.
 Please no burnouts on the show pr
 operty.
  
 Meat and Grease for the Ottawa Heart Institute
  
LOCATION:1231 Newmarket St C\, Ottawa\, ON K1B 5N6
DTSTART:20240721T160000Z
DTEND:20240721T200000Z
DTSTAMP:20240716T072430Z
ORGANIZER;CN=Divertissement:MAILTO:divertissement@clubmustangoutaouais.ca
GEO:45.411175;-75.619026
X-APPLE-STRUCTURED-LOCATION;VALUE=URI;X-ADDRESS=1231 Newmarket St C\, Ottaw
 a\, ON K1B 5N6;X-APPLE-RADIUS=72;X-TITLE=Derand Motorsport:45.411175;-75.6
 19026
END:VEVENT
END:VCALENDAR