BEGIN:VCALENDAR
VERSION:2.0
PRODID:Events Booking
BEGIN:VEVENT
UID:69eaaf25888ff
SUMMARY:HAWKESBURY AUTO EXPO 26E EDITION MAIN STREET
DESCRIPTION:https://www.facebook.com/events/247574461731323
  
 We will 
 collect non-perishable food and monetary donations for the Hawkesbury food
  Bank
 SUNDAY AUTO EXPO SEPT 1
  Swap meet 8 pm | Registration office 
 opens located near 173 Main Street East ($20) NEW! VEHICLE REGISTRATION U
 NTIL FULL CAPACITY Noon Favorite 25 RIBON distribution 20 Cash Draw at n
 oon Afternoon | Live music on various stages\, On the Canadian tire stage
  Railroad sinners. On the NAPA AUTOPARTS stage Timeless 3pm | 50/50 draw 
 |participation draws 2x $1000\, 2x $500 | Hawkesbury Central Food Bank Dra
 w 4pm Expo closing Some details may change without warning.SEVERE WEATHE
 R RISK CAN RESULT IN CHANGE IN SCHEDULING INCLUDING CANCELLATION
LOCATION:Hawkesbury\, Ont
DTSTART:20240901T120000Z
DTEND:20240901T200000Z
DTSTAMP:20240828T064104Z
ORGANIZER;CN=Divertissement:MAILTO:divertissement@clubmustangoutaouais.ca
GEO:45.608186;-74.617342
X-APPLE-STRUCTURED-LOCATION;VALUE=URI;X-ADDRESS=Hawkesbury\, Ont;X-APPLE-RA
 DIUS=72;X-TITLE=Hawkesbury\, Ont:45.608186;-74.617342
END:VEVENT
END:VCALENDAR