BEGIN:VCALENDAR
VERSION:2.0
PRODID:Events Booking
BEGIN:VEVENT
UID:69ead59bcea65
SUMMARY:Breakfast/brunch & Ice Fishing
DESCRIPTION:Hello everyone ! We are happy to inform you that you can now re
 gister for the first Club activity for 2025! We would like toinvite you to
  a lunch/brunch which will take place on January 25th followed by an ice f
 ishing activity (fishing license mandatory).
 
 See all details in the a
 ttached document.We encourage participation in large numbers\, please conf
 irm for one or both activities while you register. A great opportunity to 
 meet again at the start of 2025.
LOCATION:845\, Masson Road\, Gatineau\, QC J8M 1B2
DTSTART:20250125T150000Z
DTEND:20250125T230000Z
DTSTAMP:20250114T072641Z
ORGANIZER;CN=Divertissement:MAILTO:divertissement@clubmustangoutaouais.ca
GEO:45.546771;-75.423436
X-APPLE-STRUCTURED-LOCATION;VALUE=URI;X-ADDRESS=845\, Masson Road\, Gatinea
 u\, QC J8M 1B2;X-APPLE-RADIUS=72;X-TITLE=Resto Bar au Max Gatineau (Masson
 ):45.546771;-75.423436
END:VEVENT
END:VCALENDAR