BEGIN:VCALENDAR
VERSION:2.0
PRODID:Events Booking
BEGIN:VEVENT
UID:69eaae95ed488
SUMMARY:Montreal Auto Show 2025
DESCRIPTION:https://www.salonautomontreal.com/en/information/models-in-atte
 ndance/
 Explore the captivating world of “Cars and Models in Attendanc
 e” at the Montreal Auto Show\, where an impressive array of vehicles awa
 its. From luxury automobiles to groundbreaking concept cars\, the show fea
 tures the latest innovations in automotive technology. Attendees will have
  the unique opportunity to get up close with these stunning vehicles\, gai
 ning insights into their advanced features and designs.
 Engage with indu
 stry experts and immerse yourself in the excitement and variety this premi
 er event offers. Whether you’re a car enthusiast or a professional\, the
  Montreal Auto Show promises an unparalleled experience of automotive exce
 llence and innovation.
LOCATION:1001 Place Jean-Paul-Riopelle\, Montreal Qc H2Z 1E5
DTSTART:20250117T150000Z
DTEND:20250126T230000Z
DTSTAMP:20250116T034226Z
ORGANIZER;CN=Divertissement:MAILTO:divertissement@clubmustangoutaouais.ca
GEO:45.503709;-73.563523
X-APPLE-STRUCTURED-LOCATION;VALUE=URI;X-ADDRESS=1001 Place Jean-Paul-Riopel
 le\, Montreal Qc H2Z 1E5;X-APPLE-RADIUS=72;X-TITLE=Montreal International 
 Auto Show:45.503709;-73.563523
END:VEVENT
END:VCALENDAR