BEGIN:VCALENDAR
VERSION:2.0
PRODID:Events Booking
BEGIN:VEVENT
UID:69eabf8fbb36b
SUMMARY:*NEW* Accros au Mustang Event 
DESCRIPTION:Événement Accros aux Mustang 3ième Édition
 Park Lane Caf
 é 1092 rue Jacques-Cartier SSt-Jean-sur-Richelieu
 11 juillet 2026
  
 
 Très grand rassemblement de Mustang\, plusieurs clubs impliqués\, kios
 ques\, nombreux tirages\, spectacle Jack Fever en rappel\, Présentation s
 péciale Record mondial 2024\, cantine\, village rétro réaménagé\, div
 ertissements continuels\, certificat spécial pour tous les propriétaires
  de Mustang.
  
 https://www.facebook.com/share/p/1BCjNPskD7/
 https:/
 /www.facebook.com/profile.php?id=100063534094210
 All questions to be for
 warded to randonnee@clubmustangoutaouais.ca
 Itinéraire révisée en pi
 èce jointe
  
  
LOCATION:Park Lane Café 1092 rue Jacques-Cartier S St-Jean-sur-Richelieu
DTSTART:20260711T130000Z
DTEND:20260711T200000Z
DTSTAMP:20250204T082639Z
ORGANIZER;CN=Divertissement:MAILTO:divertissement@clubmustangoutaouais.ca
GEO:45.2475;-73.257775
X-APPLE-STRUCTURED-LOCATION;VALUE=URI;X-ADDRESS=Park Lane Café 1092 rue Ja
 cques-Cartier S St-Jean-sur-Richelieu;X-APPLE-RADIUS=72;X-TITLE=Park Lane 
 Café:45.2475;-73.257775
END:VEVENT
END:VCALENDAR