BEGIN:VCALENDAR
VERSION:2.0
PRODID:Events Booking
BEGIN:VEVENT
UID:69ead597c76a9
SUMMARY:Ride to Calabogie and Smith Falls
DESCRIPTION:New Itinerary ! 
DTSTART:20250503T120000Z
DTEND:20250503T220000Z
DTSTAMP:20250204T083507Z
ORGANIZER;CN=Divertissement:MAILTO:divertissement@clubmustangoutaouais.ca
END:VEVENT
END:VCALENDAR