BEGIN:VCALENDAR
VERSION:2.0
PRODID:Events Booking
BEGIN:VEVENT
UID:69eaae959ea75
SUMMARY:Quebec Auto-Sport Show 
DESCRIPTION:Salon Auto-Sport Québec
 https://www.autosportquebec.com/
 h
 ttps://www.autosportquebec.com/informations/ Horaire et Tarifs
 https://
 www.facebook.com/salonautosportdequebec
LOCATION:250 Bd Wilfrid-Hamel\, Québec G1L 5A7
DTSTART:20250502T180000Z
DTEND:20250504T210000Z
DTSTAMP:20250206T022206Z
ORGANIZER;CN=Divertissement:MAILTO:divertissement@clubmustangoutaouais.ca
GEO:46.826304;-71.249514
X-APPLE-STRUCTURED-LOCATION;VALUE=URI;X-ADDRESS=250 Bd Wilfrid-Hamel\, Qué
 bec G1L 5A7;X-APPLE-RADIUS=72;X-TITLE=Quebec Fair Center:46.826304;-71.249
 514
END:VEVENT
END:VCALENDAR