BEGIN:VCALENDAR
VERSION:2.0
PRODID:Events Booking
BEGIN:VEVENT
UID:69eaae889ee2d
SUMMARY:Feux sur Glace
DESCRIPTION:Événement hivernal
 Pourquoi les Feux sur Glace est l’év
 énement à ne pas manquer ?
 Plongez dans une ambiance féérique où mu
 sique\, danse\, et spectacles pyromusicaux époustouflants se rencontrent.
  Conçu pour toute la famille\, cet événement rassemble petits et grands
  pour célébrer l’hiver dans un cadre enchanteur.
 https://lumivalli.c
 a/feux-sur-glace/
LOCATION:Unnamed Road\, 28 Principale St\, Gatineau\, Quebec J9H 3K9
DTSTART:20250221T050000Z
DTEND:20250222T050000Z
DTSTAMP:20250214T014027Z
ORGANIZER;CN=Divertissement:MAILTO:divertissement@clubmustangoutaouais.ca
GEO:45.397406;-75.861775
X-APPLE-STRUCTURED-LOCATION;VALUE=URI;X-ADDRESS=Unnamed Road\, 28 Principal
 e St\, Gatineau\, Quebec J9H 3K9;X-APPLE-RADIUS=72;X-TITLE=Aylmer Marina:4
 5.397406;-75.861775
END:VEVENT
END:VCALENDAR