BEGIN:VCALENDAR
VERSION:2.0
PRODID:Events Booking
BEGIN:VEVENT
UID:69eaaf925cc62
SUMMARY: 7th Annual Meat & Grease Ottawa – Supporting the Ottawa Heart In
 stitute
DESCRIPTION: 
 https://www.facebook.com/events/9413658812074869/?acontext
 =%7B%22event_action_history%22%3A[%7B%22mechanism%22%3A%22attachment%22%2C
 %22surface%22%3A%22newsfeed%22%7D]%2C%22ref_notif_type%22%3Anull%7D
 Get 
 ready\, Ottawa! The 7th Annual Meat &amp\; Grease car show is back\, and i
 t’s bigger than ever! Join us on June 29th\, 2025\, from 12-4 PM at Dera
 nd Motorsport (1231 Newmarket Street) for an unforgettable day of cars\, c
 ommunity\, and charity!? What’s Happening?✅ Epic Car Show – Show off
  your ride or admire some of Ottawa’s finest!? BBQ – Delicious eats to
  fuel your day!? Music &amp\; Vibes – Great tunes and a great atmosphere
 !? Silent Auction &amp\; 50/50 Draw – Amazing prizes to be won!? Door Pr
 izes – You might just walk away with something awesome!All proceeds go t
 o the Ottawa Heart Institute\, so come out\, support a great cause\, and e
 njoy a day filled with horsepower and heart! ❤️?? Mark your calendars 
 and spread the word! Let’s make this the best one yet! ??
LOCATION:1231 Newmarket St C\, Ottawa\, ON K1B 5N6
DTSTART:20250629T160000Z
DTEND:20250629T200000Z
DTSTAMP:20250303T031057Z
ORGANIZER;CN=Divertissement:MAILTO:divertissement@clubmustangoutaouais.ca
GEO:45.411175;-75.619026
X-APPLE-STRUCTURED-LOCATION;VALUE=URI;X-ADDRESS=1231 Newmarket St C\, Ottaw
 a\, ON K1B 5N6;X-APPLE-RADIUS=72;X-TITLE=Derand Motorsport:45.411175;-75.6
 19026
END:VEVENT
END:VCALENDAR