BEGIN:VCALENDAR
VERSION:2.0
PRODID:Events Booking
BEGIN:VEVENT
UID:69eaaf26e7859
SUMMARY:Gatineau-Ottawa Bicycle Show 2025
DESCRIPTION:Gatineau-Ottawa Bicycle Show
  
 https://salonduvelo.com/en/
 gatineau/visitors/
 Palais des congrès de Gatineau is located at 50 Bd M
 aisonneuve\, Gatineau\, QC J8X 4H4
 Show ScheduleFriday\, March 7\, 2025 
 : Noon to 8pmSaturday\, March 8\, 2025 : 10am to 5pmSunday\, March 9\, 202
 5 : 10am to 5pm
DTSTART:20250307T050000Z
DTEND:20250309T050000Z
DTSTAMP:20250305T030244Z
ORGANIZER;CN=Divertissement:MAILTO:divertissement@clubmustangoutaouais.ca
END:VEVENT
END:VCALENDAR