BEGIN:VCALENDAR
VERSION:2.0
PRODID:Events Booking
BEGIN:VEVENT
UID:69eaaec05f7e0
SUMMARY:2025 Tomlinson Show & Shine
DESCRIPTION:For more details visit FB page 
 https://www.facebook.com/eve
 nts/2206322699787593/?acontext=%7B%22event_action_history%22%3A[%7B%22surf
 ace%22%3A%22search%22%7D%2C%7B%22mechanism%22%3A%22your_upcoming_events_un
 it%22%2C%22surface%22%3A%22bookmark%22%7D]%2C%22ref_notif_type%22%3Anull%7
 D
LOCATION:100 Citigate Dr\, Ottawa\, ON K2J 6K7
DTSTART:20250524T130000Z
DTEND:20250524T170000Z
DTSTAMP:20250410T074308Z
ORGANIZER;CN=Divertissement:MAILTO:divertissement@clubmustangoutaouais.ca
GEO:45.271483;-75.790429
X-APPLE-STRUCTURED-LOCATION;VALUE=URI;X-ADDRESS=100 Citigate Dr\, Ottawa\, 
 ON K2J 6K7;X-APPLE-RADIUS=72;X-TITLE=Tomlinson Show & Shine:45.271483;-75.
 790429
END:VEVENT
END:VCALENDAR