BEGIN:VCALENDAR
VERSION:2.0
PRODID:Events Booking
BEGIN:VEVENT
UID:69ead7421d2a8
SUMMARY:CANCELLED Montreal Mustang Club - Mustang blessing
DESCRIPTION:Le Club Mustang Montréal nous invite à leur bénédiction ann
 uelle des Mustang. Un don de 5$ (comptant) vous donne droit à l'activité
  ainsi qu'aux prix de présence. 
  
 Bénédiction 17 mai 2025 à 10h
 00
  
 (Départ de Gatineau à 8h du stationnement de l'aéroport) htt
 ps://maps.app.goo.gl/SY6unTxBWSktXztAA 
  
 Itinéraire https://maps.a
 pp.goo.gl/6rAPmRbZPsmmyYoi6
  
 Sanctuaire du Sacré coeur au 3650 boul
 . de la Rousselière\, Montréal.
 https://facebook.com/events/s/benedict
 ion/1374453453709876/
  
LOCATION:3650 De La Rousselière\, Pointe-aux-Trembles\, Quebec H1A 2X9
DTSTART:20250517T140000Z
DTEND:20250517T040000Z
DTSTAMP:20250420T054247Z
ORGANIZER;CN=Divertissement:MAILTO:divertissement@clubmustangoutaouais.ca
GEO:45.670367;-73.515262
X-APPLE-STRUCTURED-LOCATION;VALUE=URI;X-ADDRESS=3650 De La Rousselière\, P
 ointe-aux-Trembles\, Quebec H1A 2X9;X-APPLE-RADIUS=72;X-TITLE= Sanctuary o
 f Reparation to the Sacred Heart and of Saint Padre Pio   Get the app  
   See photos Sanctuary of Reparation to the Sacred Heart and of Saint P
 adre Pio:45.670367;-73.515262
END:VEVENT
END:VCALENDAR