BEGIN:VCALENDAR
VERSION:2.0
PRODID:Events Booking
BEGIN:VEVENT
UID:69ead3b6614a7
SUMMARY:Ride to Rodrigue Museum - St-Sauveur
DESCRIPTION:Stories to tell
 Given the public’s interest and inspired by
  the desire to share Quebec’s heritage\, Mr. Rodrigue chose to offer eve
 ryone the opportunity to visit his museum by reservation\, accompanied by 
 passionate guides and\, on occasion\, by Mr. Rodrigue himself.Today\, the 
 museum still occupies the same premises and continues to expand. The motto
  has become “A heritage to preserve” and the goal has always remained 
 the same\; to raise funds for multiple sclerosis research.
 You will find
  all the details and itineraries for this hike in the attached document. Y
 ou must log in with your username and password
 If you have any questions
 \, please send an email to Éric Courroux at randonnee@clubmustangoutaouai
 s.ca
 Don't miss this visit ! 
  
LOCATION: 2505 Chem. Jean-Adam suite 2\, Saint-Sauveur\, QC J0R 1R1
DTSTART:20260829T130000Z
DTEND:20260829T230000Z
DTSTAMP:20250829T233037Z
ORGANIZER;CN=Divertissement:MAILTO:divertissement@clubmustangoutaouais.ca
GEO:45.896508;-74.204798
X-APPLE-STRUCTURED-LOCATION;VALUE=URI;X-ADDRESS= 2505 Chem. Jean-Adam suite
  2\, Saint-Sauveur\, QC J0R 1R1;X-APPLE-RADIUS=72;X-TITLE=Rodrigue Museum 
 - St-Sauveur:45.896508;-74.204798
END:VEVENT
END:VCALENDAR