BEGIN:VCALENDAR
VERSION:2.0
PRODID:Events Booking
BEGIN:VEVENT
UID:69ead2f6bc72f
SUMMARY:Fall Colours Ride - UPDATED
DESCRIPTION:*** DEPARTURE TIME CHANGED ***
 INVITATION to car clubs!
 Org
 anized car rally in the heart of our resort.
 Departure from Gatineau Air
 port at 09h00
 Located in a beautiful setting with spacious facilities\, 
 our resort has a large parking lot that would be perfect for a rally. An o
 pportunity to gather in a unique setting and share your passion for cars.
 
 Event Details:*Location: 1006 Route 117 Mont-Blanc\, Ski Resort\, parkin
 g in front of the chalet*Parking capacity: (380 spaces)*On-site catering o
 ptions: Food truck\, outdoor bar\, restrooms\, inflatable game with music\
 , and a lift for the colors in operation
 *Gifts offered to club members 
 who exhibit their vehicle: free lift ticket and a drink :)
 Dinner at a l
 ocal restaurant will be offered to those interested before the return trip
 .
 Itinerary: https://maps.app.goo.gl/rrk6PkQoJ5yyu4Ug7
  
  
LOCATION:1006 Rte 117 Mont-Blanc\, Quebec J0T 2G0 Canada
DTSTART:20251011T130000Z
DTEND:20251011T230000Z
DTSTAMP:20250904T021454Z
ORGANIZER;CN=Divertissement:MAILTO:divertissement@clubmustangoutaouais.ca
GEO:46.109054;-74.4867
X-APPLE-STRUCTURED-LOCATION;VALUE=URI;X-ADDRESS=1006 Rte 117 Mont-Blanc\, Q
 uebec J0T 2G0 Canada;X-APPLE-RADIUS=72;X-TITLE=Ski Mont Blanc Quebec:46.10
 9054;-74.4867
END:VEVENT
END:VCALENDAR