BEGIN:VCALENDAR
VERSION:2.0
PRODID:Events Booking
BEGIN:VEVENT
UID:69eaac191cd6f
SUMMARY:Invitation Hockey Night  & Dinner
DESCRIPTION:Invitation – Hockey Night and Dinner with Friends
 We are pl
 eased to invite you to a friendly evening at La Cage – Brasserie Sportiv
 e du Plateau for a dinner with friends while watching the game between the
  Montreal Canadiens and the Washington Capitals. 
 Let's take this wonder
 ful opportunity to spend quality time together and catch up\, since we hav
 en't seen each other since the Christmas dinner.
 Reservation: in the nam
 e of Club Mustang Outaouais
 ImportantRegistrations are open until Februa
 ry 15\, 2026.Reservations are limited to 20 people\, so don't wait to conf
 irm your attendance!We look forward to seeing many of you\,
 Club Mustang
  Outaouais
 For any questions\, please email randonnee@clubmustangoutaoua
 is.ca
 Please see attachment
LOCATION:229 Boul des Grives\, Gatineau\, QC J9A 0C7
DTSTART:20260228T234500Z
DTEND:20260301T030000Z
DTSTAMP:20260116T095927Z
ORGANIZER;CN=Divertissement:MAILTO:divertissement@clubmustangoutaouais.ca
GEO:45.433071;-75.783145
X-APPLE-STRUCTURED-LOCATION;VALUE=URI;X-ADDRESS=229 Boul des Grives\, Gatin
 eau\, QC J9A 0C7;X-APPLE-RADIUS=72;X-TITLE=La CAGE :45.433071;-75.783145
END:VEVENT
END:VCALENDAR