BEGIN:VCALENDAR
VERSION:2.0
PRODID:Events Booking
BEGIN:VEVENT
UID:69eaac60dddd1
SUMMARY:Merrickville Classic Carshow 2026
DESCRIPTION:MERRICKVILLE CAR SHOW 2026
 https://www.facebook.com/groups/29
 44247585865230/posts/4008215359468442/
 http://www.antique-shows.ca/cars.
 html 
 Club Mustang Outaouais invites you to a car show in Merrickville 
 on June 28\, 2026. We invite you to bring your lunch to enjoy a pleasant p
 icnic among Mustangers\, then take the time to visit the magnificent villa
 ge of Merrickville and its attractions.
 Join us for a great day with fam
 ily and Mustang enthusiasts.
 Looking forward to seeing many of you.
 Ta
 ke a moment to log in to register your participation NO LATER THAN June 19
 th\, 2026. You will find all the details for this day as well as the itine
 rary.
 For more information\, contact Eric Courroux at the email address
  randonnee@clubmustangoutaouais.ca
LOCATION:106 Read St\, Merrickville\, ON K0G 1N0
DTSTART:20260628T120000Z
DTEND:20260629T000000Z
DTSTAMP:20260206T050017Z
ORGANIZER;CN=Divertissement:MAILTO:divertissement@clubmustangoutaouais.ca
GEO:44.915359;-75.844735
X-APPLE-STRUCTURED-LOCATION;VALUE=URI;X-ADDRESS=106 Read St\, Merrickville\
 , ON K0G 1N0;X-APPLE-RADIUS=72;X-TITLE=Merrickville Classic Car Show 2026:
 44.915359;-75.844735
END:VEVENT
END:VCALENDAR