BEGIN:VCALENDAR
VERSION:2.0
PRODID:Events Booking
BEGIN:VEVENT
UID:69ead28c340eb
SUMMARY:2nd Editition Mustang Fest
DESCRIPTION:Official Ride – Mustang Fest Icar Mirabel 2nd Edition
 https
 ://www.facebook.com/groups/2440952476284745
 On August 8th\, 2026\, the C
 lub Mustang Outaouais is organizing a ride to go to the Mustang Fest at Ic
 ar Mirabel site.Let's take advantage of this second edition to present our
 selves in large numbers and proudly represent our region as well as our cl
 ub.
 Several members of our club won awards in their respective categorie
 s at last year’s Show &amp\; Shine. Why not try to grab even more this y
 ear?You can bring your lunch or take advantage of the food offered on site
 .
 At the end of the day\, for interested members\, we could meet at the 
 restaurant to have a bite to eat and conclude this wonderful day among ent
 husiasts.
 Looking forward to seeing many of you there.
 Details will fo
 llow for registrations. For any questions\, contact Eric Courroux at rand
 onnee@clubmustangoutaouais.ca
 Directions attached.
LOCATION:12800 Boul. Henri Fabre\, Mirabel\, Qc J7N 0A6
DTSTART:20260808T120000Z
DTEND:20260808T040000Z
DTSTAMP:20260213T205410Z
ORGANIZER;CN=Divertissement:MAILTO:divertissement@clubmustangoutaouais.ca
GEO:45.685848;-74.026853
X-APPLE-STRUCTURED-LOCATION;VALUE=URI;X-ADDRESS=12800 Boul. Henri Fabre\, M
 irabel\, Qc J7N 0A6;X-APPLE-RADIUS=72;X-TITLE=ICAR Complex:45.685848;-74.0
 26853
END:VEVENT
END:VCALENDAR