BEGIN:VCALENDAR
VERSION:2.0
PRODID:Events Booking
BEGIN:VEVENT
UID:69eaac170df7f
SUMMARY:Ride to Lost Village Museum
DESCRIPTION:Invitation : Ride to Lost Villages Museum
  https://www.faceb
 ook.com/lostvillages
  
 The Mustang Outaouais Club invites you to a su
 perb ride on June 13th\, 2026 to the destination of the Lost Villages Muse
 um in Long Sault\, Ontario.We will take a panoramic route designed to full
 y enjoy our cars in complete safety.When we arrive at the museum\, we will
  gather for a friendly picnic.Remember to bring your meal! After this mome
 nt of exchange\, we will visit this fascinating historical site together.
 
 Departure for the return is scheduled around 15h00.  For those who wish
  to extend the day\, a group dinner can be organized (details to come). Lo
 oking forward to seeing you there!
 For any questions\, contact Eric Cour
 roux at randonnee@clubmustangoutaouais.ca
 Additional details attached. 
 (Login required).
LOCATION:16383 Ault Park Rd\, Long Sault\, ON K0C 1P0
DTSTART:20260613T040000Z
DTEND:20260613T040000Z
DTSTAMP:20260213T212820Z
ORGANIZER;CN=Divertissement:MAILTO:divertissement@clubmustangoutaouais.ca
GEO:45.033019;-74.85456
X-APPLE-STRUCTURED-LOCATION;VALUE=URI;X-ADDRESS=16383 Ault Park Rd\, Long S
 ault\, ON K0C 1P0;X-APPLE-RADIUS=72;X-TITLE=Lost Villages Museum:45.033019
 ;-74.85456
END:VEVENT
END:VCALENDAR