BEGIN:VCALENDAR
VERSION:2.0
PRODID:Events Booking
BEGIN:VEVENT
UID:69eaea3754983
SUMMARY:Ride to Wilsy Brewery & Distillery
DESCRIPTION: 
 Mustang Outaouais Club Hike – Wilsy Brewery &amp\; Disti
 llery
 https://www.wilsy.ca/
 The Mustang Outaouais Club invites you to 
 a ride on Saturday\, September 19th\, 2026\, to visit the Wilsy Craft Brew
 ery\, located in St-Placide\, near Lachute.
 Activity Details:• Bring y
 our lunch: Upon arrival\, a space will be provided to have a bite before s
 tarting the guided tour.
 • Guided tour: Discover the brewery and its a
 rtisanal craft.
 • Tasting: The activity is free\, but if you wish to t
 aste the brewery’s products\, costs will be available on-site depending 
 on the tasting chosen.
 • Estimated schedule: Departure around 15:00 fo
 r a return in the evening.
 • Dinner option: Interested members can end
  the day with a friendly dinner.
 Come enjoy a great outing with fellow M
 ustang enthusiasts and discover the local flavors!
 For any questions\, c
 ontact Eric Courroux at randonnee@clubmustangoutaouais.ca
 Find the itin
 erary details as an attached document. (login required)
  
LOCATION:4600 QC-344\, Saint-Placide\, QC J0V 2B0
DTSTART:20260919T130000Z
DTEND:20260919T040000Z
DTSTAMP:20260217T082920Z
ORGANIZER;CN=Divertissement:MAILTO:divertissement@clubmustangoutaouais.ca
GEO:45.535198;-74.255408
X-APPLE-STRUCTURED-LOCATION;VALUE=URI;X-ADDRESS=4600 QC-344\, Saint-Placide
 \, QC J0V 2B0;X-APPLE-RADIUS=72;X-TITLE=Wilsy Brewery & Distillery:45.5351
 98;-74.255408
END:VEVENT
END:VCALENDAR