BEGIN:VCALENDAR
VERSION:2.0
PRODID:Events Booking
BEGIN:VEVENT
UID:69ea950e74a8b
SUMMARY:Tresor Hunt
DESCRIPTION:
LOCATION:981 Boulevard Saint-Joseph\, Gatineau\, Quebec J8Z 1W8
DTSTART:20260509T120000Z
DTEND:20260509T200000Z
DTSTAMP:20260217T090318Z
ORGANIZER;CN=Divertissement:MAILTO:divertissement@clubmustangoutaouais.ca
GEO:45.470255;-75.741665
X-APPLE-STRUCTURED-LOCATION;VALUE=URI;X-ADDRESS=981 Boulevard Saint-Joseph\
 , Gatineau\, Quebec J8Z 1W8;X-APPLE-RADIUS=72;X-TITLE=Lallier Honda Hull:4
 5.470255;-75.741665
END:VEVENT
END:VCALENDAR