BEGIN:VCALENDAR
VERSION:2.0
PRODID:Events Booking
BEGIN:VEVENT
UID:69eaac5eeec56
SUMMARY:Weekly Meet Club Mustang Outaouais
DESCRIPTION:
LOCATION:200 Boul. Gréber\, Gatineau\, QC J8T 6K2
DTSTART:20260910T220000Z
DTEND:20260911T010000Z
DTSTAMP:20260217T105650Z
ORGANIZER;CN=Divertissement:MAILTO:divertissement@clubmustangoutaouais.ca
GEO:45.473366;-75.702418
X-APPLE-STRUCTURED-LOCATION;VALUE=URI;X-ADDRESS=200 Boul. Gréber\, Gatinea
 u\, QC J8T 6K2;X-APPLE-RADIUS=72;X-TITLE=200 Greber blvd - Meet Location:4
 5.473366;-75.702418
END:VEVENT
END:VCALENDAR