BEGIN:VCALENDAR
VERSION:2.0
PRODID:Events Booking
BEGIN:VEVENT
UID:69ead2b1ed510
SUMMARY:Carshow - Festival des Montgolfières
DESCRIPTION:NOT CONFIRMED - DETAILS TO COME
DTSTART:20260905T040000Z
DTSTAMP:20260217T111829Z
ORGANIZER;CN=Divertissement:MAILTO:divertissement@clubmustangoutaouais.ca
END:VEVENT
END:VCALENDAR