BEGIN:VCALENDAR
VERSION:2.0
PRODID:Events Booking
BEGIN:VEVENT
UID:69ead28bf0284
SUMMARY:Annual General Meeting - CMO 
DESCRIPTION:NOT CONFIRMED - DETAILS TO COME
DTSTART:20261021T040000Z
DTSTAMP:20260217T112749Z
ORGANIZER;CN=Divertissement:MAILTO:divertissement@clubmustangoutaouais.ca
END:VEVENT
END:VCALENDAR