BEGIN:VCALENDAR
VERSION:2.0
PRODID:Events Booking
BEGIN:VEVENT
UID:69eaac1796e28
SUMMARY:Ride to Kingston  (2 days) Fort Henry- Penitentiary
DESCRIPTION:CONFIRMED - DETAILS TO FOLLOW
DTSTART:20260620T114000Z
DTEND:20260621T200000Z
DTSTAMP:20260217T113503Z
ORGANIZER;CN=Divertissement:MAILTO:divertissement@clubmustangoutaouais.ca
END:VEVENT
END:VCALENDAR