BEGIN:VCALENDAR
VERSION:2.0
PRODID:Events Booking
BEGIN:VEVENT
UID:69ea952579963
SUMMARY:Ride with Club Mustang Rive-Nord
DESCRIPTION:CONFIRMED - MORE DETAILS TO FOLLOW
DTSTART:20260523T040000Z
DTSTAMP:20260217T114109Z
ORGANIZER;CN=Divertissement:MAILTO:divertissement@clubmustangoutaouais.ca
END:VEVENT
END:VCALENDAR