BEGIN:VCALENDAR
VERSION:2.0
PRODID:Events Booking
BEGIN:VEVENT
UID:69ea802a204fa
SUMMARY:2026 Season Dinner CMO
DESCRIPTION: 2026 Season opening dinner
  
 Hello Mustangers!The beauti
 ful weather is just around the corner\, and it will be the perfect time to
  get together for the season opening dinner on April 23\, 2026\, at 6:00 p
 .m. at Restaurant La Station\, located at 611 Boulevard Saint-Joseph\, Gat
 ineau\, Quebec J8Y 4A6.
 You'll have the opportunity to discover what's n
 ew for the upcoming season\, from clothing to future rides.
 We look forw
 ard to seeing you there to socialize and chat about your rides in a friend
 ly atmosphere.
 It's also an excellent opportunity to renew your membersh
 ip for 2026: https://www.clubmustangoutaouais.ca/en/members/become-a-memb
 er
 For any questions\, please email us at: randonnee@clubmustangoutaoua
 is.ca
  
LOCATION:611 Boulevard Saint-Joseph\, Gatineau\, Quebec J8Y 4A6
DTSTART:20260423T220000Z
DTEND:20260424T010000Z
DTSTAMP:20260304T093108Z
ORGANIZER;CN=Divertissement:MAILTO:divertissement@clubmustangoutaouais.ca
GEO:45.450222;-75.739361
X-APPLE-STRUCTURED-LOCATION;VALUE=URI;X-ADDRESS=611 Boulevard Saint-Joseph\
 , Gatineau\, Quebec J8Y 4A6;X-APPLE-RADIUS=72;X-TITLE=Resto La Station:45.
 450222;-75.739361
END:VEVENT
END:VCALENDAR