BEGIN:VCALENDAR
VERSION:2.0
PRODID:Events Booking
BEGIN:VEVENT
UID:69ea806492d54
SUMMARY:Sugar House - Domaine des Cerfs
DESCRIPTION:Sugar Shack Outing
 Hello sugar lovers! It's time to satisfy y
 our sweet tooth!!
 Sugar season has arrived in Quebec\, and the Mustang O
 utaouais Club invites you to a delicious meal at a sugar shack!We'll meet 
 you on April 11\, 2026\, at 12:00 PM at Domaine des Cerfs\, 83 Montée des
  Pins\, Lac Blue Sea.
 https://domaineducerf.ca/
 Directions: https://m
 aps.app.goo.gl/AgA3XmMW7hzdCeSUA
 On the menu: a traditional sugar season
  meal to enjoy with friends in a warm and welcoming atmosphere.
 Cost: $3
 4.50 per person + tax
 Group departure scheduled for 10:30 AM from 200 Bo
 ulevard Gréber\, Gatineau.
 We look forward to seeing you there to celeb
 rate this wonderful Quebec tradition!
 Registration is required before Ma
 rch 23\, 2026\, to provide the restaurant with the exact number of partici
 pants.
 Make it fast\, places are limited.
 We look forward to sharing t
 his wonderful experience with you!
 For more information\, please email r
 andonnee@clubmustangoutaouais.ca
LOCATION:83 Mnt des Pins\, Blue Sea\, QC J0X 1C0
DTSTART:20260411T160000Z
DTEND:20260411T190000Z
DTSTAMP:20260310T055023Z
ORGANIZER;CN=Divertissement:MAILTO:divertissement@clubmustangoutaouais.ca
GEO:46.161565;-76.091609
X-APPLE-STRUCTURED-LOCATION;VALUE=URI;X-ADDRESS=83 Mnt des Pins\, Blue Sea\
 , QC J0X 1C0;X-APPLE-RADIUS=72;X-TITLE=Sugar Shack Domaine des Cerfs:46.16
 1565;-76.091609
END:VEVENT
END:VCALENDAR