BEGIN:VCALENDAR
VERSION:2.0
PRODID:Events Booking
BEGIN:VEVENT
UID:69eaac18a11e7
SUMMARY:Annual Meet & Grease 2026
DESCRIPTION:DERAND MOTORSPORTS CAR SHOW
 AN EVENT NOT TO BE MISSED!
 We i
 nvite all members to an event that's 100% about passion and a good cause 
 ❤️June 14\, 2026 ⏰ From noon1175 Newmarket\, Ottawa
 Derand Motorsp
 orts presents its annual Meet &amp\; Grease to benefit the Ottawa Heart In
 stitute
 On the agenda:Cars of all kindsBBQMusicDraws and surprises
 It'
 s the perfect opportunity to take out your Mustangs\, proudly represent ou
 r club\, and meet other car enthusiasts!Come spend a great Sunday afternoo
 n with us… for a cause that truly makes a difference ❤️
 We're coun
 ting on you! Who will be there?
 Please take two minutes to register\; th
 is will be very helpful in determining the parking spaces required for mem
 bers.
  
LOCATION:1231 Newmarket St C\, Ottawa\, ON K1B 5N6
DTSTART:20260614T160000Z
DTEND:20260614T200000Z
DTSTAMP:20260326T004457Z
ORGANIZER;CN=Divertissement:MAILTO:divertissement@clubmustangoutaouais.ca
GEO:45.411175;-75.619026
X-APPLE-STRUCTURED-LOCATION;VALUE=URI;X-ADDRESS=1231 Newmarket St C\, Ottaw
 a\, ON K1B 5N6;X-APPLE-RADIUS=72;X-TITLE=Derand Motorsport:45.411175;-75.6
 19026
END:VEVENT
END:VCALENDAR