BEGIN:VCALENDAR
VERSION:2.0
PRODID:Events Booking
BEGIN:VEVENT
UID:69eaae3c31ae9
SUMMARY:Driven National Tour 26 - DRIVEN Ottawa
DESCRIPTION:DRIVEN Ottawa - EY Centre
 https://www.facebook.com/eycentre

  4899 Uplands Drive\, Ottawa\, ON\, Canada\, K1V 2N6
  
 https://www.fa
 cebook.com/events/4231834140411479/
DTSTART:20260627T160000Z
DTEND:20260627T210000Z
DTSTAMP:20260326T022700Z
ORGANIZER;CN=Divertissement:MAILTO:divertissement@clubmustangoutaouais.ca
END:VEVENT
END:VCALENDAR