BEGIN:VCALENDAR
VERSION:2.0
PRODID:Events Booking
BEGIN:VEVENT
UID:69ea804bea0c6
SUMMARY:Come to Aylmer for sweet bites.. 
DESCRIPTION:https://www.facebook.com/photo/?fbid=122274592778222147&amp\;se
 t=gm.2330985464035140
  
 Exciting activities await the whole family at
  this festive event on April 11-12?✨ On the program:❤️ Maple taffy\,
  maple products\, maple alcohol\, maple soap\, maple pastries\, wooden map
 le gifts\, and various impressive products that will amaze you!? Little fa
 rm? Juggler❤️ Bouncy castle? L'As des Jeux? Face painting and kids' ta
 ttoos? Nearly 50 exhibitors? Along Main Street\, between Le Monastère (16
 1\, rue principale) and L'Auberge Symmes Museum.Come enjoy delicious treat
 s and fun moments with the whole family! ? (See individual images for sche
 dules and locations a week prior to the event)
DTSTART:20260411T140000Z
DTEND:20260412T200000Z
DTSTAMP:20260326T023550Z
ORGANIZER;CN=Divertissement:MAILTO:divertissement@clubmustangoutaouais.ca
END:VEVENT
END:VCALENDAR