BEGIN:VCALENDAR
VERSION:2.0
PRODID:Events Booking
BEGIN:VEVENT
UID:69ea8085b5875
SUMMARY:Sugar house for Aylmer Food Center
DESCRIPTION:
DTSTART:20260412T130000Z
DTEND:20260412T180000Z
DTSTAMP:20260326T025233Z
ORGANIZER;CN=Divertissement:MAILTO:divertissement@clubmustangoutaouais.ca
END:VEVENT
END:VCALENDAR