BEGIN:VCALENDAR
VERSION:2.0
PRODID:Events Booking
BEGIN:VEVENT
UID:69eaea21f3c71
SUMMARY:Ride towards Wakefield
DESCRIPTION:Proposal for a very beautiful ride towards Wakefield
 Dear pas
 sionates\,I am suggesting a Mustang ride idea for Saturday\, September 26t
 h\, which will be postponed to Sunday\, September 27th if there is a forec
 ast of rain.
 Departure from 200 Gréber Boulevard @ 11h00
 Please consu
 lt the attached document for the details of the ride and itinerary. (you m
 ust log in to access it)
 For more information\, please send an email to 
 randonnee@clubmustangoutaouais.ca
DTSTART:20260926T143000Z
DTEND:20260926T230000Z
DTSTAMP:20260329T072733Z
ORGANIZER;CN=Divertissement:MAILTO:divertissement@clubmustangoutaouais.ca
END:VEVENT
END:VCALENDAR