BEGIN:VCALENDAR
VERSION:2.0
PRODID:Events Booking
BEGIN:VEVENT
UID:69ead2b2a20c1
SUMMARY:Luskville Dragway - All Ford Car Show & Drag
DESCRIPTION:LUSKVILLE DRAGWAY
 https://www.luskvilledragway.com/
  
  
 - Departure 200 Gréber @08h45
 - Must show CMO membership card at entran
 ce to get reduced fee form 25$ to 15$ 
 - Login to see all the details f
 or this event. 
 - A joint event with Ottawa Mustang Club
LOCATION:800 Lamoureux Ch\, Luskville QC J0X 2G0
DTSTART:20260920T124500Z
DTEND:20260920T190000Z
DTSTAMP:20260407T005220Z
ORGANIZER;CN=Divertissement:MAILTO:divertissement@clubmustangoutaouais.ca
GEO:45.518851;-76.033409
X-APPLE-STRUCTURED-LOCATION;VALUE=URI;X-ADDRESS=800 Lamoureux Ch\, Luskvill
 e QC J0X 2G0;X-APPLE-RADIUS=72;X-TITLE=Luskville Dragway:45.518851;-76.033
 409
END:VEVENT
END:VCALENDAR