BEGIN:VCALENDAR
VERSION:2.0
PRODID:Events Booking
BEGIN:VEVENT
UID:69eac435e5f66
SUMMARY:Bonne année 2022
DESCRIPTION:Bonne année 2022
DTSTART:20220101T050000Z
DTEND:20220101T050000Z
DTSTAMP:20260424T011533Z
ORGANIZER;CN=Divertissement:MAILTO:divertissement@clubmustangoutaouais.ca
END:VEVENT
END:VCALENDAR