BEGIN:VCALENDAR
VERSION:2.0
PRODID:Events Booking
BEGIN:VEVENT
UID:69eaec4ecc994
SUMMARY:Rencontre hebdomadaire du Club Mustang Outaouais
DESCRIPTION:
LOCATION:200 Boul. Gréber\, Gatineau\, QC J8T 6K2
DTSTART:20220804T220000Z
DTEND:20220805T013000Z
DTSTAMP:20220121T081700Z
ORGANIZER;CN=Divertissement:MAILTO:divertissement@clubmustangoutaouais.ca
GEO:45.473366;-75.702418
X-APPLE-STRUCTURED-LOCATION;VALUE=URI;X-ADDRESS=200 Boul. Gréber\, Gatinea
 u\, QC J8T 6K2;X-APPLE-RADIUS=72;X-TITLE=200 boul Gréber - Lieu rencontre
 :45.473366;-75.702418
END:VEVENT
END:VCALENDAR