BEGIN:VCALENDAR
VERSION:2.0
PRODID:Events Booking
BEGIN:VEVENT
UID:69eac42b941d4
SUMMARY:Atlantic National Moncton NB
DESCRIPTION:Pour information seulement
LOCATION:St George Blvd\, Moncton\, NB E1E 2C2
DTSTART:20220706T230000Z
DTEND:20220710T230000Z
DTSTAMP:20220206T065643Z
ORGANIZER;CN=Divertissement:MAILTO:divertissement@clubmustangoutaouais.ca
GEO:46.085129;-64.829564
X-APPLE-STRUCTURED-LOCATION;VALUE=URI;X-ADDRESS=St George Blvd\, Moncton\, 
 NB E1E 2C2;X-APPLE-RADIUS=72;X-TITLE=Atlantic National Automotive Extravag
 anza:46.085129;-64.829564
END:VEVENT
END:VCALENDAR