BEGIN:VCALENDAR
VERSION:2.0
PRODID:Events Booking
BEGIN:VEVENT
UID:69eac5622a716
SUMMARY:Merrickville Classic Car Show.
DESCRIPTION:Pour information seulement
LOCATION:106 Read St\, Merrickville\, ON K0G 1N0
DTSTART:20220717T130000Z
DTEND:20220717T190000Z
DTSTAMP:20220206T072748Z
ORGANIZER;CN=Divertissement:MAILTO:divertissement@clubmustangoutaouais.ca
GEO:44.915414;-75.842191
X-APPLE-STRUCTURED-LOCATION;VALUE=URI;X-ADDRESS=106 Read St\, Merrickville\
 , ON K0G 1N0;X-APPLE-RADIUS=72;X-TITLE=Merrickville  Fairgrounds:44.915414
 ;-75.842191
END:VEVENT
END:VCALENDAR