BEGIN:VCALENDAR
VERSION:2.0
PRODID:Events Booking
BEGIN:VEVENT
UID:69eadf240d4be
SUMMARY:35e Éditions du Festival des Montgolfières
DESCRIPTION:Pour information seulement
LOCATION:988\, rue Saint-Louis\, Gatineau\, QC J8T 2S4
DTSTART:20220901T120000Z
DTEND:20220906T000000Z
DTSTAMP:20220212T023104Z
ORGANIZER;CN=Divertissement:MAILTO:divertissement@clubmustangoutaouais.ca
GEO:45.461338;-75.690542
X-APPLE-STRUCTURED-LOCATION;VALUE=URI;X-ADDRESS=988\, rue Saint-Louis\, Gat
 ineau\, QC J8T 2S4;X-APPLE-RADIUS=72;X-TITLE=Parc de la Baie:45.461338;-75
 .690542
END:VEVENT
END:VCALENDAR