BEGIN:VCALENDAR
VERSION:2.0
PRODID:Events Booking
BEGIN:VEVENT
UID:69eadaa7212f9
SUMMARY:Auto Expo de Hawkesbury
DESCRIPTION:Pour information seulement
LOCATION:Hawkesbury\, Ont
DTSTART:20220904T130000Z
DTEND:20220904T200000Z
DTSTAMP:20220214T002153Z
ORGANIZER;CN=Divertissement:MAILTO:divertissement@clubmustangoutaouais.ca
GEO:45.608186;-74.617342
X-APPLE-STRUCTURED-LOCATION;VALUE=URI;X-ADDRESS=Hawkesbury\, Ont;X-APPLE-RA
 DIUS=72;X-TITLE=Hawkesbury\, Ontario:45.608186;-74.617342
END:VEVENT
END:VCALENDAR