BEGIN:VCALENDAR
VERSION:2.0
PRODID:Events Booking
BEGIN:VEVENT
UID:69eac42bcba63
SUMMARY:Fordfest 2022 - Complexe ICAR
DESCRIPTION:Pour information seulement
LOCATION:12800 Boul. Henri Fabre\, Mirabel\, Qc J7N 0A6
DTSTART:20220731T140000Z
DTEND:20220731T210000Z
DTSTAMP:20220308T001019Z
ORGANIZER;CN=Divertissement:MAILTO:divertissement@clubmustangoutaouais.ca
GEO:45.685848;-74.026853
X-APPLE-STRUCTURED-LOCATION;VALUE=URI;X-ADDRESS=12800 Boul. Henri Fabre\, M
 irabel\, Qc J7N 0A6;X-APPLE-RADIUS=72;X-TITLE=Complexe ICAR:45.685848;-74.
 026853
END:VEVENT
END:VCALENDAR