BEGIN:VCALENDAR
VERSION:2.0
PRODID:Events Booking
BEGIN:VEVENT
UID:69eade6df04c3
SUMMARY:Soirée rencontre chez Rockland Boston Pizza
DESCRIPTION:Pour information seulement
LOCATION:3002 Richelieu Street\, Rockland ON
DTSTART:20220918T203000Z
DTEND:20220919T000000Z
DTSTAMP:20220404T030708Z
ORGANIZER;CN=Divertissement:MAILTO:divertissement@clubmustangoutaouais.ca
GEO:45.532959;-75.30675
X-APPLE-STRUCTURED-LOCATION;VALUE=URI;X-ADDRESS=3002 Richelieu Street\, Roc
 kland ON;X-APPLE-RADIUS=72;X-TITLE=Boston Pizza à Rockland:45.532959;-75.
 30675
END:VEVENT
END:VCALENDAR