BEGIN:VCALENDAR
VERSION:2.0
PRODID:Events Booking
BEGIN:VEVENT
UID:69eac435b5a94
SUMMARY:Wicked Garage exposition de voitures
DESCRIPTION:Pour information seulement
DTSTART:20220515T140000Z
DTEND:20220515T190000Z
DTSTAMP:20220404T031014Z
ORGANIZER;CN=Divertissement:MAILTO:divertissement@clubmustangoutaouais.ca
END:VEVENT
END:VCALENDAR